BEGIN:VCALENDAR
VERSION:2.0
PRODID:-//ChamberMaster//Event Calendar 2.0//EN
METHOD:PUBLISH
X-PUBLISHED-TTL:P3D
REFRESH-INTERVAL:P3D
CALSCALE:GREGORIAN
BEGIN:VEVENT
DTSTART:20170409T144500Z
DTEND:20170409T160000Z
X-MICROSOFT-CDO-ALLDAYEVENT:FALSE
SUMMARY:Palm Sunday
DESCRIPTION:Palm Sunday Services with Processional\, reading of the Passion of Our Lord according to Matthew and Holy Communion.
X-ALT-DESC;FMTTYPE=text/html:Palm Sunday Services with Processional\, reading of the Passion of Our Lord according to Matthew and Holy Communion.
LOCATION:Shepherd of the Hills Lutheran Church\, 823 Forge Mill Road\, Morganton\, GA 30560
UID:e.256.71032
SEQUENCE:3
DTSTAMP:20260420T023736Z
URL:https://members.visitblairsvillega.com/events/details/palm-sunday-71032
END:VEVENT

END:VCALENDAR
