BEGIN:VCALENDAR
VERSION:2.0
PRODID:-//ChamberMaster//Event Calendar 2.0//EN
METHOD:PUBLISH
X-PUBLISHED-TTL:P3D
REFRESH-INTERVAL:P3D
CALSCALE:GREGORIAN
BEGIN:VEVENT
DTSTART:20140222T120000Z
DTEND:20140222T160000Z
X-MICROSOFT-CDO-ALLDAYEVENT:FALSE
SUMMARY:Pancake Breakfast Fundraiser
DESCRIPTION:The Children's Ministry of Fellowship of the Hills is having a Pancake Breakfast fundraiser this Saturday\, February 22\, from 7am - 11am. The suggested donation for this breakfast is $5.00. You'll get a great breakfast and assist us in raising funds to enhance our children's ministry.
X-ALT-DESC;FMTTYPE=text/html:The Children&#39\;s Ministry of Fellowship of the Hills is having a Pancake Breakfast fundraiser this Saturday\, February 22\, from 7am - 11am. The suggested donation for this breakfast is $5.00. You&#39\;ll get a great breakfast and assist us in raising funds to enhance our children&#39\;s ministry. 
LOCATION:Fellowship Of The Hills Mountain Village Plaza 19/129 South across from Circle K Blairsville\, GA
UID:e.256.23030
SEQUENCE:3
DTSTAMP:20260424T164337Z
URL:https://members.visitblairsvillega.com/events/details/pancake-breakfast-fundraiser-02-22-2014-23030
END:VEVENT

END:VCALENDAR
