BEGIN:VCALENDAR
VERSION:2.0
PRODID:-//ChamberMaster//Event Calendar 2.0//EN
METHOD:PUBLISH
X-PUBLISHED-TTL:P3D
REFRESH-INTERVAL:P3D
CALSCALE:GREGORIAN
BEGIN:VEVENT
DTSTART:20150425T140000Z
DTEND:20150425T180000Z
X-MICROSOFT-CDO-ALLDAYEVENT:FALSE
SUMMARY:Panel Built Job Fair
DESCRIPTION:You are invited to join Panel Built's first job fair. Get the chance to meet industry professionals with a Management Representative on site to answer questions and take applications. Bring your resume and be ready to launch your career!
X-ALT-DESC;FMTTYPE=text/html:You are invited to join Panel Built&#39\;s first job fair. Get the chance to meet industry professionals with a Management Representative on site to answer questions and take applications. Bring your resume and be ready to launch your career!
LOCATION:The fair will be held behind the United Community Bank in the Brackett room located at 125 GA -515. Blairsville\, GA
UID:e.256.37903
SEQUENCE:3
DTSTAMP:20260423T200042Z
URL:https://members.visitblairsvillega.com/events/details/panel-built-job-fair-04-25-2015-37903
END:VEVENT

END:VCALENDAR
