BEGIN:VCALENDAR
VERSION:2.0
PRODID:-//ChamberMaster//Event Calendar 2.0//EN
METHOD:PUBLISH
X-PUBLISHED-TTL:P3D
REFRESH-INTERVAL:P3D
CALSCALE:GREGORIAN
BEGIN:VEVENT
DTSTART:20170623T220000Z
DTEND:20170624T020000Z
X-MICROSOFT-CDO-ALLDAYEVENT:FALSE
SUMMARY:Parents Night Out Kids Night In
DESCRIPTION:This is a community event!\n\nNew Life Family Church is hosting this event to give back to our community by providing free childcare for one night only. One may call it a One Night Vacation Bible School where your child will learn about Jesus\, play games\, and enjoy making crafts while mom and dad have a date night. Drop your children off at the church for a fun-filled night with trusted babysitters\, and you and your spouse can have a night out on the town.\n\nNew born to 11 years old only.\n\nAll children must be register in advance for us to provide sufficiant childcare!\n\n\n\nRegister at New Life Family Church Facebook page-\n\nwww.facebook.com/NewLifeBlairsville
X-ALT-DESC;FMTTYPE=text/html:This is a community event!<br />\nNew Life Family Church is hosting this event to give back to our community by providing free childcare for one night only. One may call it a One Night Vacation Bible School where your child will learn about Jesus\, play games\, and enjoy making crafts while mom and dad have a date night. Drop your children off at the church for a fun-filled night with trusted babysitters\, and you and your spouse can have a night out on the town.<br />\nNew born to 11 years old only.<br />\nAll children must be register in advance for us to provide sufficiant childcare!<br />\n<br />\nRegister at New Life Family Church Facebook page-<br />\n<a href="http://www.facebook.com/NewLifeBlairsville">www.facebook.com/NewLifeBlairsville</a>
LOCATION:New Life Family Church 1885 Pat Colwell Road Blairsville\, GA 30512
UID:e.256.74151
SEQUENCE:3
DTSTAMP:20260419T233012Z
URL:https://members.visitblairsvillega.com/events/details/parents-night-out-kids-night-in-74151
END:VEVENT

END:VCALENDAR
