BEGIN:VCALENDAR
VERSION:2.0
PRODID:-//ChamberMaster//Event Calendar 2.0//EN
METHOD:PUBLISH
X-PUBLISHED-TTL:P3D
REFRESH-INTERVAL:P3D
CALSCALE:GREGORIAN
BEGIN:VEVENT
DTSTART:20150101T020000Z
DTEND:20150101T045500Z
X-MICROSOFT-CDO-ALLDAYEVENT:FALSE
SUMMARY:PARTY LIKE A ROCKSTAR NEW YEAR'S EVE BASH
DESCRIPTION:Don't miss your chance to "Party Like a Rockstar!" Haven't we all secretly wanted to know what it would be like to be a famous rockstar? Live the life... Wear the clothes... Let everyone hear our best "shower vocals?" Of course you have\, and now's your chance! Dress like your favorite ROCKSTAR! Whether it be Marvin Gaye or Gwen Stefani\, *dress it up right!\n\n\n\nKaraoke Live will begin after dinner. Hone your best vocal debut for the performance of a lifetime.\n\n\n\n*Dress code for this event is encouraged\, but not required.\n\n\n\nHolly Hill doors will open promptly at 9:00 PM. Guests will arrive\, mix\, and mingle to the welcoming tunes of Tony Ford accompanied by Obe and Amber. We will begin the night with cocktails and appetizers. A five course dinner\, prepared by Chef David\, will follow. Crane Creek Vineyards' wines will flow throughout the evening guaranteeing to never leave a guest with an empty glass.
X-ALT-DESC;FMTTYPE=text/html:<span style="font-family:calibri\,sans-serif\;"><span style="font-size:11.0pt\;">Don&#39\;t miss your chance to &quot\;Party Like a Rockstar!&quot\; Haven&#39\;t we all secretly wanted to know what it would be like to be a famous rockstar? Live the life... Wear the clothes... Let everyone hear our best &quot\;shower vocals?&quot\; Of course you have\, and now&#39\;s your chance! Dress like your favorite ROCKSTAR! Whether it be Marvin Gaye or Gwen Stefani\, *dress it up right!<br />\n<br />\nKaraoke Live will begin after dinner. Hone your best vocal debut for the performance of a lifetime.<br />\n<br />\n*Dress code for this event is encouraged\, but not required.<br />\n<br />\nHolly Hill doors will open promptly at 9:00 PM. Guests will arrive\, mix\, and mingle to the welcoming tunes of Tony Ford accompanied by Obe and Amber. We will begin the night with cocktails and appetizers. A five course dinner\, prepared by Chef David\, will follow. Crane Creek Vineyards&#39\; wines will flow throughout the evening guaranteeing to never leave a guest with an empty glass.</span></span><br />\n&nbsp\;
LOCATION:Crane Creek Vineyards 916 Crane Creek Road Young Harris\, GA 30582
UID:e.256.28154
SEQUENCE:3
DTSTAMP:20260424T033831Z
URL:https://members.visitblairsvillega.com/events/details/party-like-a-rockstar-new-year-s-eve-bash-12-31-2014-28154
END:VEVENT

END:VCALENDAR
