BEGIN:VCALENDAR
VERSION:2.0
PRODID:-//ChamberMaster//Event Calendar 2.0//EN
METHOD:PUBLISH
X-PUBLISHED-TTL:P3D
REFRESH-INTERVAL:P3D
CALSCALE:GREGORIAN
BEGIN:VEVENT
DTSTART:20170212T150000Z
DTEND:20170212T153000Z
X-MICROSOFT-CDO-ALLDAYEVENT:FALSE
SUMMARY:Pat Malone's This Week in Blairsville
DESCRIPTION:Pat Malone's This Week in Blairsville
X-ALT-DESC;FMTTYPE=text/html:<div style="color: gray\;"><span style="color:#000000\;">Pat Malone&#39\;s This Week in Blairsville</span><br />\n<br />\n&nbsp\;</div>\n
LOCATION:Live on air: http://www.wjulradio.com/weekends.html
UID:e.256.21464
SEQUENCE:3
DTSTAMP:20260420T061201Z
URL:https://members.visitblairsvillega.com/events/details/pat-malone-s-this-week-in-blairsville-02-12-2017-21464
END:VEVENT

END:VCALENDAR
