BEGIN:VCALENDAR
VERSION:2.0
PRODID:-//ChamberMaster//Event Calendar 2.0//EN
METHOD:PUBLISH
X-PUBLISHED-TTL:P3D
REFRESH-INTERVAL:P3D
CALSCALE:GREGORIAN
BEGIN:VEVENT
DTSTART:20150418T140000Z
DTEND:20150418T180000Z
X-MICROSOFT-CDO-ALLDAYEVENT:FALSE
SUMMARY:Patriots Day
DESCRIPTION:A replica colonial campsite will be erected at the Historical Society square in Blairsville commemorating Patriots Day. Displays and demonstrations will be conducted by the Sons of the American Revolution and the Daughters of the American Revolution
X-ALT-DESC;FMTTYPE=text/html:A replica colonial campsite will be erected at the Historical Society square in Blairsville commemorating Patriots Day. Displays and demonstrations will be conducted by the Sons of the American Revolution and the Daughters of the American Revolution
LOCATION:Blairsville Town Square
UID:e.256.37460
SEQUENCE:3
DTSTAMP:20260423T200015Z
URL:https://members.visitblairsvillega.com/events/details/patriots-day-04-18-2015-37460
END:VEVENT

END:VCALENDAR
