BEGIN:VCALENDAR
VERSION:2.0
PRODID:-//ChamberMaster//Event Calendar 2.0//EN
METHOD:PUBLISH
X-PUBLISHED-TTL:P3D
REFRESH-INTERVAL:P3D
CALSCALE:GREGORIAN
BEGIN:VEVENT
DTSTART:20140419T140000Z
DTEND:20140419T180000Z
X-MICROSOFT-CDO-ALLDAYEVENT:FALSE
SUMMARY:Patriots Day
DESCRIPTION:The Blue Ridge Mountains Chapter of the Sons of American Revolution will be recognizing Patriots Day again on April 19 at the Historical Center. A colonial campsite will be erected along with other events basically from 10 to 2.\n\n\n\nDavid R. Cook President\, Blue Ridge Mountains Chapter Sons of the American Revolution\n\ncookd@asme.org 706-835-5910
X-ALT-DESC;FMTTYPE=text/html:<br />\nThe Blue Ridge Mountains Chapter of the Sons of American Revolution will be recognizing Patriots Day again on April 19 at the Historical Center. A colonial campsite will be erected along with other events basically from 10 to 2.<br />\n<br />\nDavid R. Cook President\, Blue Ridge Mountains Chapter Sons of the American Revolution<br />\ncookd@asme.org 706-835-5910
LOCATION:Union County Historical Center Downtown\, Blairsville\, GA
UID:e.256.22045
SEQUENCE:3
DTSTAMP:20260424T133358Z
URL:https://members.visitblairsvillega.com/events/details/patriots-day-04-19-2014-22045
END:VEVENT

END:VCALENDAR
