BEGIN:VCALENDAR
VERSION:2.0
PRODID:-//ChamberMaster//Event Calendar 2.0//EN
METHOD:PUBLISH
X-PUBLISHED-TTL:P3D
REFRESH-INTERVAL:P3D
CALSCALE:GREGORIAN
BEGIN:VEVENT
DTSTART:20150808T170000Z
DTEND:20150808T190000Z
X-MICROSOFT-CDO-ALLDAYEVENT:FALSE
SUMMARY:PAULA CANUP\, FEATURED ARTIST OF THE MONTH AT ARTWORKS
DESCRIPTION:ArtWorks Artisan Centre is pleased to announce that Paula Canup\, of Hayesville\, is the August Artist of the Month.  The public is invited to meet the featured artist and learn more about her work.  The exhibit honoring Paula Canup will be in place for the month of August.
X-ALT-DESC;FMTTYPE=text/html:<span style="color: black\;"><span style="font-size: medium\;"><span style="font-family: times new roman\;">ArtWorks Artisan Centre is pleased to announce that Paula Canup\, of Hayesville\, is the August Artist of the Month.&nbsp\; The public is invited to meet the featured artist and learn more about her work.&nbsp\; The exhibit honoring Paula Canup will be in place for the month of August.&nbsp\; </span></span></span><br />\n&nbsp\;
LOCATION:Mountain Regional Arts and Crafts Guild\, Inc 232B Chatuge Way in the Hiawassee Business Center\, turn in by Dairy Queen. The shop is just ahead on the left.
UID:e.256.41365
SEQUENCE:3
DTSTAMP:20260423T151757Z
URL:https://members.visitblairsvillega.com/events/details/paula-canup-featured-artist-of-the-month-at-artworks-08-08-2015-41365
END:VEVENT

END:VCALENDAR
