BEGIN:VCALENDAR
VERSION:2.0
PRODID:-//ChamberMaster//Event Calendar 2.0//EN
METHOD:PUBLISH
X-PUBLISHED-TTL:P3D
REFRESH-INTERVAL:P3D
CALSCALE:GREGORIAN
BEGIN:VEVENT
DTSTART:20160825T213000Z
DTEND:20160825T233000Z
X-MICROSOFT-CDO-ALLDAYEVENT:FALSE
SUMMARY:Pep Rally for the UCHS Panthers
DESCRIPTION:Come celebrate Union County High School's upcoming football season at Chick-fil-A Blairsville. There will be food\, giveaways\, bounce houses and more!
X-ALT-DESC;FMTTYPE=text/html:Come celebrate Union County High School&#39\;s upcoming football season at Chick-fil-A Blairsville. There will be food\, giveaways\, bounce houses and more!
LOCATION:Chick fil-A Blairsville
UID:e.256.55532
SEQUENCE:3
DTSTAMP:20260420T183039Z
URL:https://members.visitblairsvillega.com/events/details/pep-rally-for-the-uchs-panthers-08-25-2016-55532
END:VEVENT

END:VCALENDAR
