BEGIN:VCALENDAR
VERSION:2.0
PRODID:-//ChamberMaster//Event Calendar 2.0//EN
METHOD:PUBLISH
X-PUBLISHED-TTL:P3D
REFRESH-INTERVAL:P3D
CALSCALE:GREGORIAN
BEGIN:VEVENT
DTSTART:20170324T140000Z
DTEND:20170324T153000Z
X-MICROSOFT-CDO-ALLDAYEVENT:FALSE
SUMMARY:Personal Safety Seminar
DESCRIPTION:Deputy Billy Percell\, Union County Sheriff's Office will be our presenter. Learn to safeguard yourself to minimize becoming a victim of a crime. Tips on personal and home safety\, and situational awareness will be discussed. Deputy Percell will also touch on firearm laws in Georgia.
X-ALT-DESC;FMTTYPE=text/html:Deputy Billy Percell\, Union County Sheriff&rsquo\;s Office will be our presenter. Learn to safeguard yourself to minimize becoming a victim of a crime. Tips on personal and home safety\, and situational awareness will be discussed. Deputy Percell will also touch on firearm laws in Georgia.
LOCATION:The Georgia Mountain Research & Education Center\, 3 miles south of the Blairsville Square\, on the east side of Hwy 19/129.
UID:e.256.62213
SEQUENCE:3
DTSTAMP:20260420T055651Z
URL:https://members.visitblairsvillega.com/events/details/personal-safety-seminar-62213
END:VEVENT

END:VCALENDAR
