BEGIN:VCALENDAR
VERSION:2.0
PRODID:-//ChamberMaster//Event Calendar 2.0//EN
METHOD:PUBLISH
X-PUBLISHED-TTL:P3D
REFRESH-INTERVAL:P3D
CALSCALE:GREGORIAN
BEGIN:VEVENT
DTSTART:20140621T150000Z
DTEND:20140621T180000Z
X-MICROSOFT-CDO-ALLDAYEVENT:FALSE
SUMMARY:Pet-A-Pet
DESCRIPTION:Humane Society's Mtn Shelter 3rd Annual Pet-A-Pet: Open-house with lots of fun\, food\, prizes\, raffle & silent auction items! Great fun for the entire family. Pet the animals and receive reduced adoption fees!
X-ALT-DESC;FMTTYPE=text/html:Humane Society&#39\;s Mtn Shelter 3rd Annual Pet-A-Pet: Open-house with lots of fun\, food\, prizes\, raffle &amp\; silent auction items! Great fun for the entire family. Pet the animals and receive reduced adoption fees!
LOCATION:Humane Society's Shelter 129 Bowling Gap Circle Blairsville
UID:e.256.24777
SEQUENCE:3
DTSTAMP:20260424T104906Z
URL:https://members.visitblairsvillega.com/events/details/pet-a-pet-06-21-2014-24777
END:VEVENT

END:VCALENDAR
