BEGIN:VCALENDAR
VERSION:2.0
PRODID:-//ChamberMaster//Event Calendar 2.0//EN
METHOD:PUBLISH
X-PUBLISHED-TTL:P3D
REFRESH-INTERVAL:P3D
CALSCALE:GREGORIAN
BEGIN:VEVENT
DTSTART:20170923T120000Z
DTEND:20170923T190000Z
X-MICROSOFT-CDO-ALLDAYEVENT:FALSE
SUMMARY:Pet Celebration 2017
DESCRIPTION:6th Annual Pet Celebration - Come enjoy a full day of events celebrating the human/pet bond and the pure joy pets bring to our lives.  Events begin at 8:00 a.m. with a reduced cost pet vaccine clinic\, followed by demonstrations\, live radio show\, pet blessing\, music\, all-day silent auction plus select live auction items\, pet parade/costume contest and the grand finale Wiener Dog Race.  Proceeds from this event go to participating rescue groups/humane societies in the 4-county area. NEW THIS YEAR:  RALLY OBEDIENCE COURSE\,  PET/OWNER LOOK-ALIKE CONTEST\, PET TALENT SHOW\, YARD SALE\n\n\n\n\n\nFor more information contact:\n\nLake Chatuge Animal Hospital (706-896-1244)\n\nTri-County Animal Clinic (828-837-0050)\n\nClay County Chamber of Commerce (828-389-3704 or 877-389-3704)
X-ALT-DESC;FMTTYPE=text/html:6th Annual Pet Celebration - Come enjoy a full day of events celebrating the human/pet bond and the pure joy pets bring to our lives. &nbsp\;Events begin at 8:00 a.m. with a reduced cost pet vaccine clinic\, followed by demonstrations\, live radio show\, pet blessing\, music\, all-day silent auction plus select live auction items\, pet parade/costume contest and the grand finale Wiener Dog Race. &nbsp\;Proceeds from this event go to participating rescue groups/humane societies in the 4-county area.&nbsp\;<span style="color:red\;"><span style="font-family:arial\,sans-serif\;"><span style="font-size:10.5pt\;">NEW THIS YEAR:&nbsp\;&nbsp\;RALLY OBEDIENCE COURSE\,&nbsp\;&nbsp\;PET/OWNER LOOK-ALIKE CONTEST\,&nbsp\;PET TALENT SHOW\,&nbsp\;YARD SALE</span></span></span><br />\n<br />\n<br />\nFor more information contact:<br />\nLake Chatuge Animal Hospital (706-896-1244)<br />\nTri-County Animal Clinic (828-837-0050)<br />\nClay County Chamber of Commerce (828-389-3704 or 877-389-3704)
LOCATION:Historic Hayesville Square\, Hayesville\, NC
UID:e.256.71762
SEQUENCE:3
DTSTAMP:20260419T175153Z
URL:https://members.visitblairsvillega.com/events/details/pet-celebration-2017-09-23-2017-71762
END:VEVENT

END:VCALENDAR
