BEGIN:VCALENDAR
VERSION:2.0
PRODID:-//ChamberMaster//Event Calendar 2.0//EN
METHOD:PUBLISH
X-PUBLISHED-TTL:P3D
REFRESH-INTERVAL:P3D
CALSCALE:GREGORIAN
BEGIN:VEVENT
DTSTART:20170611T180000Z
DTEND:20170611T200000Z
X-MICROSOFT-CDO-ALLDAYEVENT:FALSE
SUMMARY:PFLAG Blairsville Support Group
DESCRIPTION:PFLAG Blairsville Support Group\n\nSunday\, June 11th at 2:00 pm in Blairsville.\n\nCome and enjoy the fellowship of our PFLAG family and remember you are always needed for support and guidance for those coming to us with questions and seeking acceptance.\n\n\nFor more information\, please call (706) 389-5269 or email info@pflagblairsville.org
X-ALT-DESC;FMTTYPE=text/html:<p>PFLAG Blairsville Support Group</p>\n\n<p>Sunday\, June 11th at 2:00 pm in Blairsville.</p>\n\n<p>Come and enjoy the fellowship of our PFLAG family and remember you are always needed for support and guidance for those coming to us with questions and seeking acceptance.</p>\n\n<div>\n<p>For more information\, please call (706) 389-5269 or email info@pflagblairsville.org</p>\n</div>\n
LOCATION:Blairsville\, GA
UID:e.256.74158
SEQUENCE:3
DTSTAMP:20260419T232830Z
URL:https://members.visitblairsvillega.com/events/details/pflag-blairsville-support-group-06-11-2017-74158
END:VEVENT

END:VCALENDAR
