BEGIN:VCALENDAR
VERSION:2.0
PRODID:-//ChamberMaster//Event Calendar 2.0//EN
METHOD:PUBLISH
X-PUBLISHED-TTL:P3D
REFRESH-INTERVAL:P3D
CALSCALE:GREGORIAN
BEGIN:VEVENT
DTSTART:20170212T190000Z
DTEND:20170212T210000Z
X-MICROSOFT-CDO-ALLDAYEVENT:FALSE
SUMMARY:PFLAG Blairsville Support Group
DESCRIPTION:Come and enjoy the fellowship of our PFLAG family and remember you are always needed for support and guidance for those coming to us with questions and seeking acceptance. \n\nPFLAG provides a confidential and non-judgemental place of support to learn about sexual orientation and gender identity.\n\nOur goal is to assist LGBTQ persons\, their families and allies in their journey toward understanding and acceptance.\n\nWe serve the communities of the North Georgia Mountains\, Western North Carolina and Eastern Tennessee.\n\nPFLAG Blairsville is a non-profit organization and is not affiliated with any religious or political institution.\n\nAs ambassadors of love and hope\, PFLAG members improve the lives of gay\, lesbian\, bisexual and transgender persons\, their families and friends through:\n\nSupport - to embrace families\, allies and people who are LGBTQ\;\n\nEducation - to enlighten ourselves and others about the unique challenges facing people who are LGBTQ\;\n\nAdvocacy - to change attitudes and create policies that achieve full equality for LGBTQ individuals.\n\nWe provide opportunity for dialogue about sexual orientation and gender identity\, and act to create a society that is healthy and respectful of human diversity.\n\n\n\nFor more information contact us at info@pflagblairsville.org or (706) 389-5269.
X-ALT-DESC;FMTTYPE=text/html:<p><span style="font-size:18px"><span style="font-family:arial\,helvetica\,sans-serif">Come and enjoy the fellowship of our PFLAG family and remember you are always needed for support and guidance for those coming to us with questions and seeking acceptance.&nbsp\;</span></span></p>\n\n<p><span style="font-size:18px"><span style="font-family:arial\,helvetica\,sans-serif"><strong>PFLAG</strong>&nbsp\;provides a confidential and non-judgemental place of support to learn about sexual orientation and gender identity.</span></span></p>\n\n<p style="text-align:justify"><span style="font-size:18px"><span style="font-family:arial\,helvetica\,sans-serif">Our goal is to assist LGBTQ persons\, their families and allies in their journey toward understanding and acceptance.</span></span></p>\n\n<p style="text-align:justify"><span style="font-size:18px"><span style="font-family:arial\,helvetica\,sans-serif">We serve the communities of the North Georgia Mountains\, Western North Carolina and Eastern Tennessee.</span></span></p>\n\n<p style="text-align:justify"><span style="font-size:18px"><span style="font-family:arial\,helvetica\,sans-serif"><strong>PFLAG Blairsville</strong>&nbsp\;is a non-profit organization and is not affiliated with any religious or political institution.</span></span></p>\n\n<p style="text-align:justify"><span style="font-size:18px"><span style="font-family:arial\,helvetica\,sans-serif">As ambassadors of love and hope\,&nbsp\;<strong>PFLAG</strong>&nbsp\;members improve the lives of gay\, lesbian\, bisexual and transgender persons\, their families and friends through:</span></span></p>\n\n<p style="text-align:justify"><span style="font-size:18px"><span style="font-family:arial\,helvetica\,sans-serif"><strong>Support</strong>&nbsp\;- to embrace families\, allies and people who are LGBTQ\;</span></span></p>\n\n<p style="text-align:justify"><span style="font-size:18px"><span style="font-family:arial\,helvetica\,sans-serif"><strong>Education</strong>&nbsp\;- to enlighten ourselves and others about the unique challenges facing people who are LGBTQ\;</span></span></p>\n\n<p style="text-align:justify"><span style="font-size:18px"><span style="font-family:arial\,helvetica\,sans-serif"><strong>Advocacy</strong>&nbsp\;- to change attitudes and create policies that achieve full equality for LGBTQ individuals.</span></span></p>\n\n<p style="text-align:justify"><span style="font-size:18px"><span style="font-family:arial\,helvetica\,sans-serif">We provide opportunity for dialogue about sexual orientation and gender identity\, and act to create a society that is healthy and respectful of human diversity.<br />\n<br />\nFor more information contact us at info@pflagblairsville.org or (706) 389-5269.</span></span></p>\n\n<p>&nbsp\;</p>\n
LOCATION:Blairsville\, GA
UID:e.256.65477
SEQUENCE:3
DTSTAMP:20260420T055558Z
URL:https://members.visitblairsvillega.com/events/details/pflag-blairsville-support-group-65477
END:VEVENT

END:VCALENDAR
