BEGIN:VCALENDAR
VERSION:2.0
PRODID:-//ChamberMaster//Event Calendar 2.0//EN
METHOD:PUBLISH
X-PUBLISHED-TTL:P3D
REFRESH-INTERVAL:P3D
CALSCALE:GREGORIAN
BEGIN:VEVENT
DTSTART:20140919T233000Z
DTEND:20140920T020000Z
X-MICROSOFT-CDO-ALLDAYEVENT:FALSE
SUMMARY:Phillips\, Craig & Dean
DESCRIPTION:Phillips\, Craig and Dean are a contemporary Christian music trio composed of Randy Phillips\, Shawn Craig\, and Dan Dean. Since forming in 1991\, they have released 12 albums and earned 18 No. 1 radio singles. The group has received nine GMA Dove Award nominations\, and sold over two million units\, receiving two Dove Awards for participating in the special event album My Utmost for His Highest in 1996\, and also took the 2010 Dove Award for Inspirational Album of the Year\, Fearless.
X-ALT-DESC;FMTTYPE=text/html:Phillips\, Craig and Dean are a contemporary Christian music trio composed of Randy Phillips\, Shawn Craig\, and Dan Dean. Since forming in 1991\, they have released 12 albums and earned 18 No. 1 radio singles. The group has received nine GMA Dove Award nominations\, and sold over two million units\, receiving two Dove Awards for participating in the special event album My Utmost for His Highest in 1996\, and also took the 2010 Dove Award for Inspirational Album of the Year\, Fearless.
LOCATION:Smoky Mountain Center for the Performing Arts 1028 Georgia Road Franklin\, NC 28734
UID:e.256.27398
SEQUENCE:3
DTSTAMP:20260424T061231Z
URL:https://members.visitblairsvillega.com/events/details/phillips-craig-dean-09-19-2014-27398
END:VEVENT

END:VCALENDAR
