BEGIN:VCALENDAR
VERSION:2.0
PRODID:-//ChamberMaster//Event Calendar 2.0//EN
METHOD:PUBLISH
X-PUBLISHED-TTL:P3D
REFRESH-INTERVAL:P3D
CALSCALE:GREGORIAN
BEGIN:VEVENT
DTSTART:20151101T230000Z
DTEND:20151102T030000Z
X-MICROSOFT-CDO-ALLDAYEVENT:FALSE
SUMMARY:Pickin' On The Patio with Wyatt Espalin
DESCRIPTION:Mountain Crossings is hosting another night of folk music because our last one was just too much fun! Come out and join us on the evening of Sunday\, Novermber 1st at 6pm for a night of great music from Hiawassee local\, Wyatt Espalin. Tickets are only $10. Feel free to bring your own snacks\, drinks and chairs if you wish.
X-ALT-DESC;FMTTYPE=text/html:Mountain Crossings is hosting another night of folk music because our last one was just too much fun! Come out and join us on the evening of Sunday\, Novermber 1st at 6pm for a night of great music from Hiawassee local\, Wyatt Espalin.&nbsp\;<span style="line-height:20.8px">Tickets are only $10.</span>&nbsp\;Feel free to bring your own snacks\, drinks and chairs if you wish.
LOCATION:Mountain Crossings at Walasi-yi 12471 Gainesville Hwy Blairsville Ga 30152
UID:e.256.44344
SEQUENCE:3
DTSTAMP:20260423T085521Z
URL:https://members.visitblairsvillega.com/events/details/pickin-on-the-patio-with-wyatt-espalin-11-01-2015-44344
END:VEVENT

END:VCALENDAR
