BEGIN:VCALENDAR
VERSION:2.0
PRODID:-//ChamberMaster//Event Calendar 2.0//EN
METHOD:PUBLISH
X-PUBLISHED-TTL:P3D
REFRESH-INTERVAL:P3D
CALSCALE:GREGORIAN
BEGIN:VEVENT
DTSTART:20150403T170000Z
DTEND:20150403T210000Z
X-MICROSOFT-CDO-ALLDAYEVENT:FALSE
SUMMARY:Pictures with the Easter Bunny
DESCRIPTION:Come join us and visit with the Easter Bunny\, UCBI will be happy to take pictures of your little ones to commemorate the holiday.
X-ALT-DESC;FMTTYPE=text/html:Come join us and visit with the Easter Bunny\, UCBI will be happy to&nbsp\;take pictures of your little ones to commemorate the holiday.
LOCATION:United Community Bank Junior Brackett Community Room
UID:e.256.37098
SEQUENCE:3
DTSTAMP:20260423T200116Z
URL:https://members.visitblairsvillega.com/events/details/pictures-with-the-easter-bunny-04-03-2015-37098
END:VEVENT

END:VCALENDAR
