BEGIN:VCALENDAR
VERSION:2.0
PRODID:-//ChamberMaster//Event Calendar 2.0//EN
METHOD:PUBLISH
X-PUBLISHED-TTL:P3D
REFRESH-INTERVAL:P3D
CALSCALE:GREGORIAN
BEGIN:VEVENT
DTSTART:20140411T170000Z
DTEND:20140411T210000Z
X-MICROSOFT-CDO-ALLDAYEVENT:FALSE
SUMMARY:Pictures with the Easter Bunny
DESCRIPTION:
X-ALT-DESC;FMTTYPE=text/html:
LOCATION:United Community Bank Junior Brackett Community Room 177 Highway 515 East Blairsville\, GA 30512
UID:e.256.22048
SEQUENCE:3
DTSTAMP:20260424T133426Z
URL:https://members.visitblairsvillega.com/events/details/pictures-with-the-easter-bunny-04-11-2014-22048
END:VEVENT

END:VCALENDAR
