BEGIN:VCALENDAR
VERSION:2.0
PRODID:-//ChamberMaster//Event Calendar 2.0//EN
METHOD:PUBLISH
X-PUBLISHED-TTL:P3D
REFRESH-INTERVAL:P3D
CALSCALE:GREGORIAN
BEGIN:VEVENT
DTSTART:20140901T140000Z
DTEND:20140901T220000Z
X-MICROSOFT-CDO-ALLDAYEVENT:FALSE
SUMMARY:Pieces of Me: Artist in Residence Jennifer Danner
DESCRIPTION:Enjoy mixed media creations\, photography\, music and written prose of artist Jennifer Danner whose works reflect the pieces of life that make up who she is and in turn make up each and every one of us in some way. Opening Receptions: July 19\, 5-7pm and August 2\, 5-7pm.
X-ALT-DESC;FMTTYPE=text/html:<span style="font-size: 12pt\;"><span style="font-family: adobe caslon pro bold\,serif\;">Enjoy mixed media creations\, photography\, music and written prose of artist Jennifer Danner whose works reflect the pieces of life that make up who she is and in turn make up each and every one of us in some way.<font face="Arial"> Opening Receptions: July 19\, 5-7pm and August 2\, 5-7pm.</font></span></span><br />\n<br type="_moz" />\n
LOCATION:Blue Ridge Mountains Arts Association (The Art Center) 420 West Main Street Blue Ridge\, GA 30513
UID:e.256.22729
SEQUENCE:3
DTSTAMP:20260424T063432Z
URL:https://members.visitblairsvillega.com/events/details/pieces-of-me-artist-in-residence-jennifer-danner-09-01-2014-22729
END:VEVENT

END:VCALENDAR
