BEGIN:VCALENDAR
VERSION:2.0
PRODID:-//ChamberMaster//Event Calendar 2.0//EN
METHOD:PUBLISH
X-PUBLISHED-TTL:P3D
REFRESH-INTERVAL:P3D
CALSCALE:GREGORIAN
BEGIN:VEVENT
DTSTART:20170916T160000Z
DTEND:20170917T000000Z
X-MICROSOFT-CDO-ALLDAYEVENT:FALSE
SUMMARY:Pig N’ Jig
DESCRIPTION:Join in on the hand-clapping and foot-stomping fun of an afternoon and evening of music and dance in this clogging and mountain music jamboree. Afternoon competition events include: Pre-Teen\, Teen & Adult- solos\, duet\, trio\; Pre-Teen\, Teen & Adult- group. Evening events include exhibition of participants\, live music and awards presentations. Trophies will be given per level and a grand champion will be awarded a special cash prize. BBQ dinner (that's where the pig comes in) will be available on property between shows and during the evening events.
X-ALT-DESC;FMTTYPE=text/html:Join in on the hand-clapping and foot-stomping fun of an afternoon and evening of music and dance in this clogging and mountain music jamboree. Afternoon competition events include: Pre-Teen\, Teen &amp\; Adult- solos\, duet\, trio\; Pre-Teen\, Teen &amp\; Adult- group. Evening events include exhibition of participants\, live music and awards presentations. Trophies will be given per level and a grand champion will be awarded a special cash prize. BBQ dinner (that&#39\;s where the pig comes in) will be available on property between shows and during the evening events.
LOCATION:
UID:e.256.75719
SEQUENCE:3
DTSTAMP:20260419T192437Z
URL:https://members.visitblairsvillega.com/events/details/pig-n-jig-75719
END:VEVENT

END:VCALENDAR
