BEGIN:VCALENDAR
VERSION:2.0
PRODID:-//ChamberMaster//Event Calendar 2.0//EN
METHOD:PUBLISH
X-PUBLISHED-TTL:P3D
REFRESH-INTERVAL:P3D
CALSCALE:GREGORIAN
BEGIN:VEVENT
DTSTART:20160717T170000Z
DTEND:20160717T190000Z
X-MICROSOFT-CDO-ALLDAYEVENT:FALSE
SUMMARY:Pilgrimage - India as I Experienced It
DESCRIPTION:It will be an afternoon travelogue with slides and videos of Ron's month long travel across Northern India\, visiting spiritually charged locations related to paramahansa Yogananda and the kriya yoga tradition. \n\n\n\nThis was an adventure replete with camels and dragons\, marauding monkeys and dancing crabs\, flower markets\, snake charmers\, mystic saints and sacred spaces. \n\n\n\nRon will share some of the magic and wonder that infused this amazing journey.\n\n\n\nAll are welcome.
X-ALT-DESC;FMTTYPE=text/html:It will be an afternoon travelogue with slides and videos of Ron&#39\;s month long travel across Northern India\, visiting spiritually charged locations related to paramahansa Yogananda and the kriya yoga tradition.&nbsp\;<br />\n<br />\nThis was an adventure replete with camels and dragons\, marauding monkeys and dancing crabs\, flower markets\, snake charmers\, mystic saints and sacred spaces.&nbsp\;<br />\n<br />\nRon will share some of the magic and wonder that infused this amazing journey.<br />\n<br />\nAll are welcome.&nbsp\;
LOCATION:Unity of Blairsville 298 School Circle\, Blairsville
UID:e.256.54003
SEQUENCE:3
DTSTAMP:20260420T183750Z
URL:https://members.visitblairsvillega.com/events/details/pilgrimage-india-as-i-experienced-it-07-17-2016-54003
END:VEVENT

END:VCALENDAR
