BEGIN:VCALENDAR
VERSION:2.0
PRODID:-//ChamberMaster//Event Calendar 2.0//EN
METHOD:PUBLISH
X-PUBLISHED-TTL:P3D
REFRESH-INTERVAL:P3D
CALSCALE:GREGORIAN
BEGIN:VEVENT
DTSTART:20140522T153000Z
DTEND:20140522T173000Z
X-MICROSOFT-CDO-ALLDAYEVENT:FALSE
SUMMARY:"Pinterest + Simple Strategies for Event Planning"
DESCRIPTION:"Pinterest + Simple Strategies for Event Planning"\n\nThe Blairsville-Union County Chamber of Commerce in partnership with the Towns County Chamber of Commerce is offering a class called "Pinterest + Simple Strategies for Event Planning"  presented by Howard Flint | Ghost Partner   Content. Marketing.\n\n\n\nPinterest is a HOT SPOT right now - millions of people use Pinterest in their lives and work.  In 2012 there were 11.7 million unique visitors to the site.  Would you like to learn more about how to use it in your business?  Event Planning - Do you regularly bring your supporters\, followers or customers together for events?  Are you looking for some simple strategies that you can use to run a successful event?  In this session you will learn the real power of Event Marketing and how to focus on the key event elements of getting people to sign up\, speak up and show up.  (Lap tops or other mobile devices required.)\n\n\n\nWhen registering\, please select one of the following lunch options:\n\nSalad with Ranch Dressing\n\nSalad with Blue Cheese Dressing\n\nSalad with Raspberry Vinaigrette\n\nBurger with Chips\n\nLunch payment will be made to The View Grill on the day of the event.
X-ALT-DESC;FMTTYPE=text/html:<strong><font face="Times New Roman" size="3">&nbsp\;</font><span style="color: rgb(0\, 0\, 0)\;"><span style="font-size: 12px\;"><span style="font-family: arial\;">&quot\;Pinterest + Simple Strategies for Event Planning&quot\;</span></span></span></strong><br />\n<span style="color: rgb(0\, 0\, 0)\;"><span style="font-size: 12px\;"><span style="font-family: arial\;">The Blairsville-Union County Chamber of Commerce in partnership with the Towns County Chamber of Commerce is offering a class called &quot\;Pinterest + Simple Strategies for Event Planning&quot\;&nbsp\; presented by <strong>Howard Flint</strong> | Ghost Partner &ndash\; Content. Marketing.<br />\n<br />\nPinterest is a HOT SPOT right now - millions of people use Pinterest in their lives and&nbsp\;work.&nbsp\;&nbsp\;In 2012 there were 11.7 million unique visitors to the site. &nbsp\;Would you like to learn more about how to use it in your business?&nbsp\; <strong><span style="font-weight: normal\;">Event Planning</span></strong> - Do you regularly bring your supporters\, followers or customers together for events?&nbsp\; Are you looking for some simple strategies that you can use to run a successful event?&nbsp\; In this session you will learn the real power of Event Marketing and how to focus on the key event elements of getting people to <em>sign up</em>\, <em>speak up</em> and <em>show up.</em>&nbsp\;&nbsp\;(Lap tops or other mobile devices required.)<br />\n<br />\nWhen registering\, please select one of the following lunch options:<br />\nSalad with Ranch&nbsp\;Dressing<br />\nSalad with Blue Cheese Dressing<br />\nSalad with Raspberry Vinaigrette<br />\nBurger with Chips<br />\nLunch payment will be made to The View Grill on the day of the event.&nbsp\;</span></span></span>
LOCATION:Union County Community Center 129 Union County Rec Rd Blairsville\, GA
UID:e.256.23626
SEQUENCE:3
DTSTAMP:20260424T122313Z
URL:https://members.visitblairsvillega.com/events/details/pinterest-simple-strategies-for-event-planning-05-22-2014-23626
END:VEVENT

END:VCALENDAR
