BEGIN:VCALENDAR
VERSION:2.0
PRODID:-//ChamberMaster//Event Calendar 2.0//EN
METHOD:PUBLISH
X-PUBLISHED-TTL:P3D
REFRESH-INTERVAL:P3D
CALSCALE:GREGORIAN
BEGIN:VEVENT
DTSTART:20160823T220000Z
DTEND:20160824T000000Z
X-MICROSOFT-CDO-ALLDAYEVENT:FALSE
SUMMARY:Pirate and Princess Night
DESCRIPTION:Join us at Chick Fil A for an evening of adventure! There will be fun and games for all\, including a photo booth\, crafts and a Scavenger Hunt to find the magic treasure chest of gold nuggets.
X-ALT-DESC;FMTTYPE=text/html:Join us at Chick Fil A for an evening of adventure! There will be fun and games for all\, including a photo booth\, crafts and a Scavenger Hunt to find the magic treasure chest of gold nuggets.
LOCATION:Chick Fil A Blairsville 152 Hwy 515 E
UID:e.256.55531
SEQUENCE:3
DTSTAMP:20260420T164603Z
URL:https://members.visitblairsvillega.com/events/details/pirate-and-princess-night-08-23-2016-55531
END:VEVENT

END:VCALENDAR
