BEGIN:VCALENDAR
VERSION:2.0
PRODID:-//ChamberMaster//Event Calendar 2.0//EN
METHOD:PUBLISH
X-PUBLISHED-TTL:P3D
REFRESH-INTERVAL:P3D
CALSCALE:GREGORIAN
BEGIN:VEVENT
DTSTART:20160805T140000Z
DTEND:20160805T160000Z
X-MICROSOFT-CDO-ALLDAYEVENT:FALSE
SUMMARY:Plant Pathogens in Your Veggie Garden
DESCRIPTION:It's August\, your tomatoes are blighted\, your beans are rusted and you are downright wilted! Come to this seminar to find out how to remedy the most common pathogens in your vegetable garden. Bring samples of your sick veggies for a Q & A session.
X-ALT-DESC;FMTTYPE=text/html:It&#39\;s August\, your tomatoes are blighted\, your beans are rusted and you are downright wilted! Come to this seminar to find out how to remedy the most common pathogens in your vegetable garden. Bring samples of your sick veggies for a Q &amp\; A session.
LOCATION:The auditorium of the Georgia Mountain Research & Education Center. The GMRE Center is located 3 miles south of the Blairsville Square on Hwy 19/129.
UID:e.256.54068
SEQUENCE:3
DTSTAMP:20260420T164713Z
URL:https://members.visitblairsvillega.com/events/details/plant-pathogens-in-your-veggie-garden-08-05-2016-54068
END:VEVENT

END:VCALENDAR
