BEGIN:VCALENDAR
VERSION:2.0
PRODID:-//ChamberMaster//Event Calendar 2.0//EN
METHOD:PUBLISH
X-PUBLISHED-TTL:P3D
REFRESH-INTERVAL:P3D
CALSCALE:GREGORIAN
BEGIN:VEVENT
DTSTART:20170721T140000Z
DTEND:20170721T154500Z
X-MICROSOFT-CDO-ALLDAYEVENT:FALSE
SUMMARY:Pollinator-Friendly Garden Seminar
DESCRIPTION:Would you like to have more butterflies in your yard and help pollinators at the same time? Melissa Mattee\, University of Georgia\, Union County ANR Extension Agent and Entomologist will be our speaker. Come to this seminar to learn how to make your yard more attractive to butterflies and other pollinators.
X-ALT-DESC;FMTTYPE=text/html:Would you like to have more butterflies in your yard and help pollinators at the same time? Melissa Mattee\, University of Georgia\, Union County ANR Extension Agent and Entomologist will be our speaker. Come to this seminar to learn how to make your yard more attractive to butterflies and other pollinators.
LOCATION:The Georgia Mountain Research & Education Center\, 3 miles south of the Blairsville Square\, on the east side of Hwy 19/129.
UID:e.256.62215
SEQUENCE:3
DTSTAMP:20260419T212504Z
URL:https://members.visitblairsvillega.com/events/details/pollinator-friendly-garden-seminar-62215
END:VEVENT

END:VCALENDAR
