BEGIN:VCALENDAR
VERSION:2.0
PRODID:-//ChamberMaster//Event Calendar 2.0//EN
METHOD:PUBLISH
X-PUBLISHED-TTL:P3D
REFRESH-INTERVAL:P3D
CALSCALE:GREGORIAN
BEGIN:VEVENT
DTSTART:20140607T140000Z
DTEND:20140607T160000Z
X-MICROSOFT-CDO-ALLDAYEVENT:FALSE
SUMMARY:Poppy Painting Party
DESCRIPTION:Poppy Painting Party! Beginner to advanced\, we will welcome springtime by painting bright red cheerful poppy flowers in original ways including using palette knives\, sponges\, brushes\, paint and ink. All supplies included\, just bring your playful and creative side\, and a friend! This class is meant to be as much fun as instructional and you're encouraged to wear play clothes!
X-ALT-DESC;FMTTYPE=text/html:<span style="font-family:calibri\,sans-serif\;"><span style="font-size:11.0pt\;">Poppy Painting Party! Beginner to advanced\, we will welcome springtime by painting bright red cheerful poppy flowers in original ways including using palette knives\, sponges\, brushes\, paint and ink. All supplies included\, just bring your playful and creative side\, and a friend! This class is meant to be as much fun as instructional and you&#39\;re encouraged to wear play clothes!</span></span>
LOCATION:Inspire Art Studio 51 Earnest St. Suite C
UID:e.256.24599
SEQUENCE:3
DTSTAMP:20260424T105316Z
URL:https://members.visitblairsvillega.com/events/details/poppy-painting-party-06-07-2014-24599
END:VEVENT

END:VCALENDAR
