BEGIN:VCALENDAR
VERSION:2.0
PRODID:-//ChamberMaster//Event Calendar 2.0//EN
METHOD:PUBLISH
X-PUBLISHED-TTL:P3D
REFRESH-INTERVAL:P3D
CALSCALE:GREGORIAN
BEGIN:VEVENT
DTSTART:20170912T190000Z
DTEND:20170912T200000Z
X-MICROSOFT-CDO-ALLDAYEVENT:FALSE
SUMMARY:POSTPONED- Ribbon Cutting for Harry Norman\, Realtors (formerly Blairsville Realty)
DESCRIPTION:A ribbon cutting celebration will be held for Harry Norman\, Realtors.  Harry Norman\, Realtors is a locally owned and operated company located in the heart of the North Georgia Mountains. Everyone is invited to come meet the dedicated staff of real estate professionals\, ready to assist you in all areas of real estate!
X-ALT-DESC;FMTTYPE=text/html:<span style="font-size:medium\;"><span style="font-family:calibri\;">A ribbon cutting celebration will be held for <em>Harry Norman\, Realtors.&nbsp\; Harry Norman\, Realtors</em> is a locally owned and operated company located in the heart of the North Georgia Mountains. Everyone is invited to come meet the dedicated staff of real estate professionals\, ready to assist you in all areas of real estate!</span></span>
LOCATION:63 Murphy Hwy Blairsville\, GA 30512
UID:e.256.75349
SEQUENCE:3
DTSTAMP:20260419T193248Z
URL:https://members.visitblairsvillega.com/events/details/postponed-ribbon-cutting-for-harry-norman-realtors-formerly-blairsville-realty-75349
END:VEVENT

END:VCALENDAR
