BEGIN:VCALENDAR
VERSION:2.0
PRODID:-//ChamberMaster//Event Calendar 2.0//EN
METHOD:PUBLISH
X-PUBLISHED-TTL:P3D
REFRESH-INTERVAL:P3D
CALSCALE:GREGORIAN
BEGIN:VEVENT
DTSTART:20160702T213000Z
DTEND:20160702T230000Z
X-MICROSOFT-CDO-ALLDAYEVENT:FALSE
SUMMARY:Potluck & Concert with Lytingale
DESCRIPTION:Bring food to share to enjoy with friends old & new\, followed by a hour of inspiring music from Lytingale.\n\n\n\nLytingale is best known for her spiritual music\, and is a prolific songwriter (over 500 songs) and a versatile musician (vocals\, keyboards\, guitar\, flute\, dulcimer\, hand drums\, and world class kazoo) in many musical styles\, from rock to opera\, blues & jazz to musical comedy.
X-ALT-DESC;FMTTYPE=text/html:Bring food to share to enjoy with friends old &amp\; new\, followed by a hour of inspiring music from Lytingale.<br />\n<br />\nLytingale is best known for her spiritual music\, and is a prolific songwriter (over 500 songs) and a versatile musician (vocals\, keyboards\, guitar\, flute\, dulcimer\, hand drums\, and world class kazoo) in many musical styles\, from rock to opera\, blues &amp\; jazz to musical comedy.
LOCATION:Unity of Blairsville 298 School Circle
UID:e.256.53288
SEQUENCE:3
DTSTAMP:20260420T203125Z
URL:https://members.visitblairsvillega.com/events/details/potluck-concert-with-lytingale-07-02-2016-53288
END:VEVENT

END:VCALENDAR
