BEGIN:VCALENDAR
VERSION:2.0
PRODID:-//ChamberMaster//Event Calendar 2.0//EN
METHOD:PUBLISH
X-PUBLISHED-TTL:P3D
REFRESH-INTERVAL:P3D
CALSCALE:GREGORIAN
BEGIN:VEVENT
DTSTART:20150919T180000Z
DTEND:20150919T230000Z
X-MICROSOFT-CDO-ALLDAYEVENT:FALSE
SUMMARY:Praise Together Music Festival
DESCRIPTION:5 great Christian bands come together for a Family event of a great day of music. Food available for a donation. Door prizes including a new guitar. Drawing every hour. Come bring the family or a carload of friends. This event has been held and successful for several years. Bring a comfortable chair and umbrella just in case and an expectation of a great day. Great event.
X-ALT-DESC;FMTTYPE=text/html:5 great Christian bands come together for a Family event of a great day of music. Food available for a donation. Door prizes including a new guitar. Drawing every hour. Come bring the family or a carload of friends. This event has been held and successful for several years. Bring a comfortable chair and umbrella just in case and an expectation of a great day. Great event.
LOCATION:Meeks Park in the meadow pass the ball fields and tennis courts\, plenty of free parking.
UID:e.256.43916
SEQUENCE:3
DTSTAMP:20260423T134445Z
URL:https://members.visitblairsvillega.com/events/details/praise-together-music-festival-09-19-2015-43916
END:VEVENT

END:VCALENDAR
