BEGIN:VCALENDAR
VERSION:2.0
PRODID:-//ChamberMaster//Event Calendar 2.0//EN
METHOD:PUBLISH
X-PUBLISHED-TTL:P3D
REFRESH-INTERVAL:P3D
CALSCALE:GREGORIAN
BEGIN:VEVENT
DTSTART:20170820T180000Z
DTEND:20170820T210000Z
X-MICROSOFT-CDO-ALLDAYEVENT:FALSE
SUMMARY:Pre-Solar Eclipse Vino and Vibes ft Rob Alwine at Hightower Creek Vineyards
DESCRIPTION:Join us for a special Sunday session of Vino & Vibes as we welcome Rob Alwine back to celebrate the solar eclipse. Music from 2:00   5:00. Admission is $10 and includes a glass of wine and tasting. Feel free to bring a picnic lunch or enjoy a cheese tray!
X-ALT-DESC;FMTTYPE=text/html:<span style="color:rgb(112\, 112\, 112)\; font-family:open sans\; font-size:14px">Join us for a special Sunday session of Vino &amp\; Vibes as we welcome Rob Alwine back to celebrate the solar eclipse. Music from 2:00 &ndash\; 5:00. Admission is $10 and includes a glass of wine and tasting. Feel free to bring a picnic lunch or enjoy a cheese tray!</span>
LOCATION:7150 Canaan Drive Hiawassee\, GA 30546
UID:e.256.75613
SEQUENCE:3
DTSTAMP:20260419T195417Z
URL:https://members.visitblairsvillega.com/events/details/pre-solar-eclipse-vino-and-vibes-ft-rob-alwine-at-hightower-creek-vineyards-75613
END:VEVENT

END:VCALENDAR
