BEGIN:VCALENDAR
VERSION:2.0
PRODID:-//ChamberMaster//Event Calendar 2.0//EN
METHOD:PUBLISH
X-PUBLISHED-TTL:P3D
REFRESH-INTERVAL:P3D
CALSCALE:GREGORIAN
BEGIN:VEVENT
DTSTART:20160307T133000Z
DTEND:20160307T170000Z
X-MICROSOFT-CDO-ALLDAYEVENT:FALSE
SUMMARY:Preaching Workshop
DESCRIPTION:FREE PREACHING WORKSHOP MARCH 7TH | The Craddock Center invites active pastors and laypersons serving across Appalachia to the March 7th Preaching Workshop from 8:30-11:45 AM. Dr. Kathleen M. O'Connor will lead the workshop\, entitled I Will Make a New Covenant: Jeremiah and Survival. Participants are requested to bring a Bible. O'Connor is the William Marcellus McPheeters Professor of Old Testament\, Emerita\, of Columbia Theological Seminary. The workshop will be held at The Craddock Center. Doors open at 8:00 Breakfast and lunch will be served\, and online registration is required at craddockcenter.eventbrite.com. Questions? Please contact us: helen-craddock@tds.net or 706-632-1772.
X-ALT-DESC;FMTTYPE=text/html:FREE PREACHING WORKSHOP MARCH 7TH | The Craddock Center invites active pastors and laypersons serving across Appalachia to the March 7th Preaching Workshop from 8:30-11:45 AM. Dr. Kathleen M. O&#39\;Connor will lead the workshop\, entitled I Will Make a New Covenant: Jeremiah and Survival. Participants are requested to bring a Bible. O&#39\;Connor is the William Marcellus McPheeters Professor of Old Testament\, Emerita\, of Columbia Theological Seminary. The workshop will be held at The Craddock Center. Doors open at 8:00 Breakfast and lunch will be served\, and online registration is required at craddockcenter.eventbrite.com. Questions? Please contact us: helen-craddock@tds.net or 706-632-1772.
LOCATION:The Craddock Center
UID:e.256.49464
SEQUENCE:3
DTSTAMP:20260421T021434Z
URL:https://members.visitblairsvillega.com/events/details/preaching-workshop-03-07-2016-49464
END:VEVENT

END:VCALENDAR
