BEGIN:VCALENDAR
VERSION:2.0
PRODID:-//ChamberMaster//Event Calendar 2.0//EN
METHOD:PUBLISH
X-PUBLISHED-TTL:P3D
REFRESH-INTERVAL:P3D
CALSCALE:GREGORIAN
BEGIN:VEVENT
DTSTART:20161003T120000Z
DTEND:20161003T160000Z
X-MICROSOFT-CDO-ALLDAYEVENT:FALSE
SUMMARY:Preaching Workshop
DESCRIPTION:FREE PREACHING WORKSHOP OCTOBER 3RD | The Craddock Center cordially invites active preachers and laypersons to the October 3rd Preaching Workshop from 8:30 a.m. to 12:00 p.m. Rev. Jerry Herships\, a United Methodist Church minister from Denver\, Co.\, will lead the workshop and answer the question Who is your congregation? His lecture acknowledges different interactive styles and learners and the preaching methods he recommends to engage them all. The Preaching Workshop will be held at The Craddock Center on Monday\, October 3rd from 8:30 AM to noon. Breakfast and lunch will be served and seating is limited. Online registration is required and open now at craddockcenter.eventbrite.com. Please contact The Craddock Center at 706-632-1772 or valerie-craddock@tds.net with questions.
X-ALT-DESC;FMTTYPE=text/html:FREE PREACHING WORKSHOP OCTOBER 3RD | The Craddock Center cordially invites active preachers and laypersons to the October 3rd Preaching Workshop from 8:30 a.m. to 12:00 p.m. Rev. Jerry Herships\, a United Methodist Church minister from Denver\, Co.\, will lead the workshop and answer the question Who is your congregation? His lecture acknowledges different interactive styles and learners and the preaching methods he recommends to engage them all. The Preaching Workshop will be held at The Craddock Center on Monday\, October 3rd from 8:30 AM to noon. Breakfast and lunch will be served and seating is limited. Online registration is required and open now at craddockcenter.eventbrite.com. Please contact The Craddock Center at 706-632-1772 or valerie-craddock@tds.net with questions.
LOCATION:186 Fred Craddock Drive\, Cherry Log\, Ga. 30522
UID:e.256.57869
SEQUENCE:3
DTSTAMP:20260420T130612Z
URL:https://members.visitblairsvillega.com/events/details/preaching-workshop-57869
END:VEVENT

END:VCALENDAR
