BEGIN:VCALENDAR
VERSION:2.0
PRODID:-//ChamberMaster//Event Calendar 2.0//EN
METHOD:PUBLISH
X-PUBLISHED-TTL:P3D
REFRESH-INTERVAL:P3D
CALSCALE:GREGORIAN
BEGIN:VEVENT
DTSTART:20150912T140000Z
DTEND:20150912T180000Z
X-MICROSOFT-CDO-ALLDAYEVENT:FALSE
SUMMARY:Premier Designs "Donuts & Dreams" Event
DESCRIPTION:Join Alysia Hargus of Premier Designs Jewelry for a special Shopportunity event to learn more about the Premier Designs Business Opportunity. Learn how you could add additional income to your family budget with Premier Designs Jewelry. - Earn 50% profit on every sale ! - No quotas to remain active - No inventory to carry - No territories Work as little or as much as you want or need to! You owe it to yourself to hear what Premier Designs is all about!! WHERE: G&G Bakery and Caf \, in the meeting room WHEN: Saturday\, September 12th Three Opportunity Presentations at 10am\, 11am and Noon Followed by Sample Sale Shopping: Noon?2:00pm PLEASE RSVP FOR OPPORTUNITY PRESENTATION TO RECEIVE FREE GIFT. Alysia Hargus\, Independent Distributor (706) 994-9711 AlysiaHargus.MyPremierDesigns.com
X-ALT-DESC;FMTTYPE=text/html:Join Alysia Hargus of Premier Designs Jewelry for a special Shopportunity event to learn more about the Premier Designs Business Opportunity. Learn how you could add additional income to your family budget with Premier Designs Jewelry. - Earn 50% profit on every sale ! - No quotas to remain active - No inventory to carry - No territories Work as little or as much as you want or need to! You owe it to yourself to hear what Premier Designs is all about!! WHERE: G&amp\;G Bakery and Caf&eacute\;\, in the meeting room WHEN: Saturday\, September 12th Three Opportunity Presentations at 10am\, 11am and Noon Followed by Sample Sale Shopping: Noon?2:00pm PLEASE RSVP FOR OPPORTUNITY PRESENTATION TO RECEIVE FREE GIFT. Alysia Hargus\, Independent Distributor (706) 994-9711 AlysiaHargus.MyPremierDesigns.com
LOCATION:G&G Bakery and Caf 262 Highway 515 E Blairsville\, GA
UID:e.256.43966
SEQUENCE:3
DTSTAMP:20260423T133934Z
URL:https://members.visitblairsvillega.com/events/details/premier-designs-donuts-dreams-event-09-12-2015-43966
END:VEVENT

END:VCALENDAR
