BEGIN:VCALENDAR
VERSION:2.0
PRODID:-//ChamberMaster//Event Calendar 2.0//EN
METHOD:PUBLISH
X-PUBLISHED-TTL:P3D
REFRESH-INTERVAL:P3D
CALSCALE:GREGORIAN
BEGIN:VEVENT
DTSTART:20170211T190000Z
DTEND:20170211T213000Z
X-MICROSOFT-CDO-ALLDAYEVENT:FALSE
SUMMARY:Premier Designs Jewelry & A. Unique Boutique Fashion Frenzy!
DESCRIPTION:ELEVATE YOUR STYLE with boho chic looks from A. Unique Boutique (Alisha Hogsed) and Premier Designs Jewelry (Alysia Hargus)!! Knowing your personal style can be tough\, and figuring how to fit it in your lifestyle can be even more challenging! We're here to help! JOIN the ladies at A. UNIQUE BOUTIQUE and Alysia Hargus of PREMIER DESIGNS JEWELRY for an afternoon of FUN\, FASHION AND FRIENDS! Learn fun tips on accessorizing for Spring! Refreshments provided for this event! SHOPPING UNDER THE INFLUENCE OF FRIENDS...Bring a shopping buddy!
X-ALT-DESC;FMTTYPE=text/html:ELEVATE YOUR STYLE with boho chic looks from A. Unique Boutique (Alisha Hogsed) and Premier Designs Jewelry (Alysia Hargus)!! Knowing your personal style can be tough\, and figuring how to fit it in your lifestyle can be even more challenging! We&#39\;re here to help! JOIN the ladies at A. UNIQUE BOUTIQUE and Alysia Hargus of PREMIER DESIGNS JEWELRY for an afternoon of FUN\, FASHION AND FRIENDS! Learn fun tips on accessorizing for Spring! Refreshments provided for this event! SHOPPING UNDER THE INFLUENCE OF FRIENDS...Bring a shopping buddy!
LOCATION:A. Unique Boutique 69 Main Street Hayesville\, NC
UID:e.256.64127
SEQUENCE:3
DTSTAMP:20260420T080013Z
URL:https://members.visitblairsvillega.com/events/details/premier-designs-jewelry-a-unique-boutique-fashion-frenzy-64127
END:VEVENT

END:VCALENDAR
