BEGIN:VCALENDAR
VERSION:2.0
PRODID:-//ChamberMaster//Event Calendar 2.0//EN
METHOD:PUBLISH
X-PUBLISHED-TTL:P3D
REFRESH-INTERVAL:P3D
CALSCALE:GREGORIAN
BEGIN:VEVENT
DTSTART:20171229T160000Z
DTEND:20171229T200000Z
X-MICROSOFT-CDO-ALLDAYEVENT:FALSE
SUMMARY:Premier Designs Jewelry After Christmas Sale
DESCRIPTION:Alysia Hargus of Premier Designs Jewelry is hosting an exclusive After Christmas "Deals & Steals" Sale event! MANY pieces from her jewelry boutique will be ON SALE...Plus\, exclusive offers for custom orders. Follow her Facebook page at https://www.facebook.com/PDJbyAlysiaHargus/ for exclusive news and updates about her event.
X-ALT-DESC;FMTTYPE=text/html:Alysia Hargus of Premier Designs Jewelry is hosting an exclusive After Christmas &quot\;Deals &amp\; Steals&quot\; Sale event! MANY pieces from her jewelry boutique will be ON SALE...Plus\, exclusive offers for custom orders. Follow her Facebook page at https://www.facebook.com/PDJbyAlysiaHargus/ for exclusive news and updates about her event.
LOCATION:Union County Community Center 129 Union County Recreation Road\, Blairsville DOWNSTAIRS MEETING ROOM
UID:e.256.77187
SEQUENCE:3
DTSTAMP:20260419T141916Z
URL:https://members.visitblairsvillega.com/events/details/premier-designs-jewelry-after-christmas-sale-77187
END:VEVENT

END:VCALENDAR
