BEGIN:VCALENDAR
VERSION:2.0
PRODID:-//ChamberMaster//Event Calendar 2.0//EN
METHOD:PUBLISH
X-PUBLISHED-TTL:P3D
REFRESH-INTERVAL:P3D
CALSCALE:GREGORIAN
BEGIN:VEVENT
DTSTART:20160520T220000Z
DTEND:20160521T000000Z
X-MICROSOFT-CDO-ALLDAYEVENT:FALSE
SUMMARY:Premier Designs Jewelry Anniversary Event
DESCRIPTION:COME CELEBRATE WITH ME!! 2016 marks my 5th year as a Jeweler with Premier Designs Jewelry!! This celebration will be full of FUN\, FASHION and FRIENDS! Celebration Begins at 6:00 pm with a Special Opportunity Presentation @ 5:30 pm - 6:00 pm ** THIS WILL BE A CAN'T-MISS EVENT!! **   HUGE Sale of My Limited Edition Samples    Order 2 pieces...Get 3rd 50% OFF   Drawings for Free Jewelry and Gift Cards!! First 15 to RSVP by May 12th will receive a SPECIAL GIFT at the party. Everyone that attends my celebration will also receive a $10 coupon good toward a purchase from the NEW 2016-2017 Collection (coming in mid-July). Refreshments will be provided. Alysia Hargus - Your Favorite Jewelry Lady (706) 994-9711 AlysiaHargus.MyPremierDesigns.com
X-ALT-DESC;FMTTYPE=text/html:COME CELEBRATE WITH ME!! 2016 marks my 5th year as a Jeweler with Premier Designs Jewelry!! This celebration will be full of FUN\, FASHION and FRIENDS! Celebration Begins at 6:00 pm with a Special Opportunity Presentation @ 5:30 pm - 6:00 pm ** THIS WILL BE A CAN&#39\;T-MISS EVENT!! ** &gt\;&gt\;HUGE Sale of My Limited Edition Samples &gt\;&gt\; Order 2 pieces...Get 3rd 50% OFF &gt\;&gt\;Drawings for Free Jewelry and Gift Cards!! First 15 to RSVP by May 12th will receive a SPECIAL GIFT at the party. Everyone that attends my celebration will also receive a $10 coupon good toward a purchase from the NEW 2016-2017 Collection (coming in mid-July). Refreshments will be provided. Alysia Hargus - Your Favorite Jewelry Lady (706) 994-9711 AlysiaHargus.MyPremierDesigns.com
LOCATION:Union County Community Center
UID:e.256.51251
SEQUENCE:3
DTSTAMP:20260421T002616Z
URL:https://members.visitblairsvillega.com/events/details/premier-designs-jewelry-anniversary-event-05-20-2016-51251
END:VEVENT

END:VCALENDAR
