BEGIN:VCALENDAR
VERSION:2.0
PRODID:-//ChamberMaster//Event Calendar 2.0//EN
METHOD:PUBLISH
X-PUBLISHED-TTL:P3D
REFRESH-INTERVAL:P3D
CALSCALE:GREGORIAN
BEGIN:VEVENT
DTSTART:20160929T130000Z
DTEND:20160929T140000Z
X-MICROSOFT-CDO-ALLDAYEVENT:FALSE
SUMMARY:Preparing for the Overtime Rule
DESCRIPTION:Make sure your business is prepared for the December 1st\, 2016 effective date of the new Overtime Rule. Join the Blairsville-Union County Chamber of Commerce to view a webinar that will provide an in-depth explanation of what the new Overtime Ruling means for your business and employees.
X-ALT-DESC;FMTTYPE=text/html:Make sure your business is prepared for the December 1st\, 2016 effective date of the new Overtime Rule. Join the Blairsville-Union County Chamber of Commerce to view a webinar that will provide an in-depth explanation of what the new Overtime Ruling means for your business and employees.
LOCATION:Union County Community Center
UID:e.256.58181
SEQUENCE:3
DTSTAMP:20260420T144003Z
URL:https://members.visitblairsvillega.com/events/details/preparing-for-the-overtime-rule-58181
END:VEVENT

END:VCALENDAR
