BEGIN:VCALENDAR
VERSION:2.0
PRODID:-//ChamberMaster//Event Calendar 2.0//EN
METHOD:PUBLISH
X-PUBLISHED-TTL:P3D
REFRESH-INTERVAL:P3D
CALSCALE:GREGORIAN
BEGIN:VEVENT
DTSTART:20150124T000000Z
DTEND:20150124T020000Z
X-MICROSOFT-CDO-ALLDAYEVENT:FALSE
SUMMARY:Pressley Sisters at John C. Campbell Folk School
DESCRIPTION:Pressley Sisters - Brasstown natives with Appalachian music deep in their roots
X-ALT-DESC;FMTTYPE=text/html:<div><br />\nPressley Sisters - Brasstown natives with Appalachian music deep in their roots</div>\n
LOCATION:Community Room at John C. Campbell Folk School Brasstown\, NC 28902
UID:e.256.33609
SEQUENCE:3
DTSTAMP:20260424T003355Z
URL:https://members.visitblairsvillega.com/events/details/pressley-sisters-at-john-c-campbell-folk-school-01-23-2015-33609
END:VEVENT

END:VCALENDAR
