BEGIN:VCALENDAR
VERSION:2.0
PRODID:-//ChamberMaster//Event Calendar 2.0//EN
METHOD:PUBLISH
X-PUBLISHED-TTL:P3D
REFRESH-INTERVAL:P3D
CALSCALE:GREGORIAN
BEGIN:VEVENT
DTSTART:20141111T223000Z
DTEND:20141111T233000Z
X-MICROSOFT-CDO-ALLDAYEVENT:FALSE
SUMMARY:Preventing Diabetes
DESCRIPTION:Learn how to manage a healthy diet. Learn what to avoid in order to maintain a normal blood sugar. Learn how to prevent Type II diabetes
X-ALT-DESC;FMTTYPE=text/html:Learn how to manage a healthy diet. Learn what to avoid in order to maintain a normal blood sugar. Learn how to prevent Type II diabetes
LOCATION:Union General Hospital\, Inc. 2nd Floor Classroom
UID:e.256.27577
SEQUENCE:3
DTSTAMP:20260424T033444Z
URL:https://members.visitblairsvillega.com/events/details/preventing-diabetes-11-11-2014-27577
END:VEVENT

END:VCALENDAR
