BEGIN:VCALENDAR
VERSION:2.0
PRODID:-//ChamberMaster//Event Calendar 2.0//EN
METHOD:PUBLISH
X-PUBLISHED-TTL:P3D
REFRESH-INTERVAL:P3D
CALSCALE:GREGORIAN
BEGIN:VEVENT
DTSTART:20160415T230000Z
DTEND:20160416T030000Z
X-MICROSOFT-CDO-ALLDAYEVENT:FALSE
SUMMARY:Pro-Wrestling Fundraising Event
DESCRIPTION:Doors open at 7pm\, Belltime is 8pm!\n\n\n\nTickets sold at the door: Adults $10\, Ages 11 & under $5. \n\n\n\nRefreshments will be available for purchase. \n\n\n\nGPW is a family oriented independent wrestling company running in Georgia\, North Carolina\, and Tennessee. GPW runs clean\, family events that are good for all ages bringing you top stars from all over the south.\n\n\n\nAll proceeds benefit S.A.F.E.
X-ALT-DESC;FMTTYPE=text/html:<span style="color: rgb(78\, 86\, 101)\; font-family: helvetica\,arial\,sans-serif\; font-size: 14px\;">Doors open at 7pm\, Belltime is 8pm!</span><br />\n<br />\n<span style="color: rgb(78\, 86\, 101)\; font-family: helvetica\,arial\,sans-serif\; font-size: 14px\;">Tickets sold at the door: Adults $10\, Ages 11 &amp\; under $5.&nbsp\;</span><br />\n<br />\n<span style="color: rgb(78\, 86\, 101)\; font-family: helvetica\,arial\,sans-serif\; font-size: 14px\;">Refreshments will be available for purchase.&nbsp\;</span><br />\n<br />\n<span style="color: rgb(78\, 86\, 101)\; font-family: helvetica\,arial\,sans-serif\; font-size: 14px\;">GPW is a family oriented independent wrestling company running in Georgia\, North Carolina\, and Tennessee. GPW runs clean\, family events that are good for all ages bringing you top stars from all over the south.<br />\n<br />\nAll proceeds benefit S.A.F.E.</span>
LOCATION:310 Wellborn Street Blairsville GA
UID:e.256.49836
SEQUENCE:3
DTSTAMP:20260421T002310Z
URL:https://members.visitblairsvillega.com/events/details/pro-wrestling-fundraising-event-04-15-2016-49836
END:VEVENT

END:VCALENDAR
