BEGIN:VCALENDAR
VERSION:2.0
PRODID:-//ChamberMaster//Event Calendar 2.0//EN
METHOD:PUBLISH
X-PUBLISHED-TTL:P3D
REFRESH-INTERVAL:P3D
CALSCALE:GREGORIAN
BEGIN:VEVENT
DTSTART:20160813T220000Z
DTEND:20160814T000000Z
X-MICROSOFT-CDO-ALLDAYEVENT:FALSE
SUMMARY:Project Parkinson's - Party For A Purpose
DESCRIPTION:An evening dedicated to Parkinson's awareness in our community. Doctors\, Physical Therapists\, and representatives from the National Parkinson's Foundation will be available to talk to you about the latest research and treatments available.\n\n\n\nEnjoy live music\, raffles\, heavy hor d'oeuvres and a cash bar.
X-ALT-DESC;FMTTYPE=text/html:An evening dedicated to Parkinson&#39\;s awareness in our community. Doctors\, Physical Therapists\, and&nbsp\;representatives from the National Parkinson&#39\;s Foundation will be available to talk to you about the latest research and treatments available.<br />\n<br />\nEnjoy live music\, raffles\, heavy hor d&#39\;oeuvres and a cash bar.
LOCATION:The Art Center Downtown Blue Ridge 420 East Main St.
UID:e.256.52979
SEQUENCE:3
DTSTAMP:20260420T183248Z
URL:https://members.visitblairsvillega.com/events/details/project-parkinson-s-party-for-a-purpose-08-13-2016-52979
END:VEVENT

END:VCALENDAR
