BEGIN:VCALENDAR
VERSION:2.0
PRODID:-//ChamberMaster//Event Calendar 2.0//EN
METHOD:PUBLISH
X-PUBLISHED-TTL:P3D
REFRESH-INTERVAL:P3D
CALSCALE:GREGORIAN
BEGIN:VEVENT
DTSTART:20140228T150000Z
DTEND:20140228T170000Z
X-MICROSOFT-CDO-ALLDAYEVENT:FALSE
SUMMARY:Pruning Apples and Blueberries Seminar
DESCRIPTION:Mr. Ray Covington\, technician at the GMRE Center\, will teach us the reasons why we need to prune apple trees and blueberry bushes in the first place\, and when is the best time for pruning. Weather permitting\; we will walk to our orchard\, where Mr. Covington will demonstrate proper pruning techniques. This seminar will take place outdoors and walking on uneven ground will be required.
X-ALT-DESC;FMTTYPE=text/html:Mr. Ray Covington\, technician at the GMRE Center\, will teach us the reasons why we need to prune apple trees and blueberry bushes in the first place\, and when is the best time for pruning. Weather permitting\; we will walk to our orchard\, where Mr. Covington will demonstrate proper pruning techniques. This seminar will take place outdoors and walking on uneven ground will be required.
LOCATION:The University of Georgia Mountain Research & Education Center\, 3 miles south of the Blairsville Square\, on the east side of Hwy 19/129.
UID:e.256.22476
SEQUENCE:3
DTSTAMP:20260424T180535Z
URL:https://members.visitblairsvillega.com/events/details/pruning-apples-and-blueberries-seminar-02-28-2014-22476
END:VEVENT

END:VCALENDAR
