BEGIN:VCALENDAR
VERSION:2.0
PRODID:-//ChamberMaster//Event Calendar 2.0//EN
METHOD:PUBLISH
X-PUBLISHED-TTL:P3D
REFRESH-INTERVAL:P3D
CALSCALE:GREGORIAN
BEGIN:VEVENT
DTSTART:20141122T150000Z
DTEND:20141122T220000Z
X-MICROSOFT-CDO-ALLDAYEVENT:FALSE
SUMMARY:PUP Pet Photo Shoot
DESCRIPTION:PUP (Prevent Unwanted Pets) is having a photo shoot with You\, Your Pet\, and Santa at Lake Chatuge Animal Hospital (Hwy. 17/69 to Hayesville) on Saturday\, November 22\, from 10 a.m. - 5 p.m. A professional photographer\, Davis Groza\, will be offering 12 postcards (4x8) for $20. Our own Jerry Brock will be Santa. No appointment necessary.
X-ALT-DESC;FMTTYPE=text/html:PUP (Prevent Unwanted Pets) is having a photo shoot with You\, Your Pet\, and Santa at Lake Chatuge Animal Hospital (Hwy. 17/69 to Hayesville) on Saturday\, November 22\, from 10 a.m.&nbsp\;- 5 p.m. A professional photographer\, Davis Groza\, will be offering 12 postcards (4x8) for $20. Our own Jerry Brock will be Santa. No appointment necessary.
LOCATION:Lake Chatuge Animal Hospital (Hwy. 17/69 to Hayesville) Young Harris\, GA
UID:e.256.27933
SEQUENCE:3
DTSTAMP:20260424T045327Z
URL:https://members.visitblairsvillega.com/events/details/pup-pet-photo-shoot-11-22-2014-27933
END:VEVENT

END:VCALENDAR
