BEGIN:VCALENDAR
VERSION:2.0
PRODID:-//ChamberMaster//Event Calendar 2.0//EN
METHOD:PUBLISH
X-PUBLISHED-TTL:P3D
REFRESH-INTERVAL:P3D
CALSCALE:GREGORIAN
BEGIN:VEVENT
DTSTART:20150312T213000Z
DTEND:20150312T223000Z
X-MICROSOFT-CDO-ALLDAYEVENT:FALSE
SUMMARY:Purchasing & Cooking Healthy Foods
DESCRIPTION:Learn how to select healthy food and the most healthy way to cook it!
X-ALT-DESC;FMTTYPE=text/html:Learn how to select healthy food and the most healthy way to cook it!
LOCATION:Union General Hospital\, 2nd Floor Classroom
UID:e.256.37459
SEQUENCE:3
DTSTAMP:20260423T230033Z
URL:https://members.visitblairsvillega.com/events/details/purchasing-cooking-healthy-foods-03-12-2015-37459
END:VEVENT

END:VCALENDAR
