BEGIN:VCALENDAR
VERSION:2.0
PRODID:-//ChamberMaster//Event Calendar 2.0//EN
METHOD:PUBLISH
X-PUBLISHED-TTL:P3D
REFRESH-INTERVAL:P3D
CALSCALE:GREGORIAN
BEGIN:VEVENT
DTSTART:20140927T210000Z
DTEND:20140928T000000Z
X-MICROSOFT-CDO-ALLDAYEVENT:FALSE
SUMMARY:Puttin' on the Dog
DESCRIPTION:Wine tasting by The Wine Shoppe\, fabulous food\, live & silent auction\, live music\, raffles\, and contests. All proceeds from this event will go towards supporting the Union/Towns County Humane Society.
X-ALT-DESC;FMTTYPE=text/html:Wine tasting by The Wine Shoppe\, fabulous food\, live &amp\; silent auction\, live music\, raffles\, and contests. All proceeds from this event will go towards supporting the Union/Towns County Humane Society.
LOCATION:Union County Farmers Market 148 Old Smokey Rd Blairsville
UID:e.256.26145
SEQUENCE:3
DTSTAMP:20260424T062926Z
URL:https://members.visitblairsvillega.com/events/details/puttin-on-the-dog-09-27-2014-26145
END:VEVENT

END:VCALENDAR
