BEGIN:VCALENDAR
VERSION:2.0
PRODID:-//ChamberMaster//Event Calendar 2.0//EN
METHOD:PUBLISH
X-PUBLISHED-TTL:P3D
REFRESH-INTERVAL:P3D
CALSCALE:GREGORIAN
BEGIN:VEVENT
DTSTART:20161001T223000Z
DTEND:20161002T010000Z
X-MICROSOFT-CDO-ALLDAYEVENT:FALSE
SUMMARY:Puttin' on the Dog"
DESCRIPTION:It is time for the Sixteenth Annual Fundraiser for the Humane Society's Mountain Shelter. This year it will be held at a new location\, the Towns County Recreation Center in Hiawassee. There will be a buffet catered by Brothers and a grand dessert buffet. Wine and beer are included in the $35 per person ticket price. Proceeds from the event will provide for cats and dogs at this well-run\, no-kill shelter. Silent and live auctions will be held and two live dance bands will be performing.
X-ALT-DESC;FMTTYPE=text/html:It is time for the&nbsp\;Sixteenth Annual Fundraiser for the Humane Society&#39\;s Mountain Shelter. This year it&nbsp\;will be held at&nbsp\;a new location\, the Towns County Recreation Center in Hiawassee. There will be a buffet catered by Brothers and a grand dessert buffet. Wine and beer are included in the $35 per person&nbsp\;ticket price. Proceeds from the event&nbsp\;will provide for&nbsp\;cats and dogs at this well-run\, no-kill shelter. Silent&nbsp\;and live auctions will be held and two live dance bands will be performing.
LOCATION:Towns County Recreation Center 150 Foster Road (off Mining Gap at Hwy 76)
UID:e.256.54067
SEQUENCE:3
DTSTAMP:20260420T144248Z
URL:https://members.visitblairsvillega.com/events/details/puttin-on-the-dog-10-01-2016-54067
END:VEVENT

END:VCALENDAR
