BEGIN:VCALENDAR
VERSION:2.0
PRODID:-//ChamberMaster//Event Calendar 2.0//EN
METHOD:PUBLISH
X-PUBLISHED-TTL:P3D
REFRESH-INTERVAL:P3D
CALSCALE:GREGORIAN
BEGIN:VEVENT
DTSTART:20150714T140000Z
DTEND:20150714T220000Z
X-MICROSOFT-CDO-ALLDAYEVENT:FALSE
SUMMARY:Quilt Exhibit & Fiber Arts Exhibit
DESCRIPTION:Celebrate our heritage with the age-old artistic craft of quilting and the variety of the fiber arts. The Art Center's Richard Low Evans Gallery will be adorned in colorful fabric\, woven with care\, skill and hand-made flare.  Don't miss one of the most unforgettable exhibits of the year with traditional & non-traditional quilts\, arts quilts\, and an array of the fiber arts. Exhibit open during regular business hours\, Tue-Sun\, 10am-6pm.
X-ALT-DESC;FMTTYPE=text/html:<span style="font-size: 12pt\;"><span style="font-family: adobe caslon pro bold\,serif\;">Celebrate our heritage with the age-old artistic craft of quilting and the variety of the fiber arts. The Art Center&rsquo\;s Richard Low Evans Gallery will be adorned in colorful fabric\, woven with care\, skill and hand-made flare.&nbsp\; Don&rsquo\;t miss one of the most unforgettable exhibits of the year with traditional &amp\; non-traditional quilts\, arts quilts\, and an array of the fiber arts. Exhibit open during regular business hours\, Tue-Sun\, 10am-6pm. </span></span>
LOCATION:The Art Center (Blue Ridge Mountains Arts Association) 420 West Main Street Blue Ridge\, GA 30513
UID:e.256.40250
SEQUENCE:3
DTSTAMP:20260423T151513Z
URL:https://members.visitblairsvillega.com/events/details/quilt-exhibit-fiber-arts-exhibit-07-14-2015-40250
END:VEVENT

END:VCALENDAR
