BEGIN:VCALENDAR
VERSION:2.0
PRODID:-//ChamberMaster//Event Calendar 2.0//EN
METHOD:PUBLISH
X-PUBLISHED-TTL:P3D
REFRESH-INTERVAL:P3D
CALSCALE:GREGORIAN
BEGIN:VEVENT
DTSTART:20170922T130000Z
DTEND:20170923T200000Z
X-MICROSOFT-CDO-ALLDAYEVENT:FALSE
SUMMARY:QUILT FEST 2017 presented by Misty Mountain Quilters' Guild
DESCRIPTION:QuiltFest 2017\n\nPresented by Misty Mountain Quilters' Guild\n\nwww.mistymountainquiltguild.org\n\n\n\nHouse of Prayer Church - Family Life Center\n\n1400 Pat Colwell Rd\n\nBlairsville\, GA\n\n\n\nShow Hours\n\nFriday\, Sept 22nd   9:00am - 5:00pm\n\nSaturday\, Sept 23rd   9:00am - 4:00pm\n\n\n\nAdmission:\n\n$6.00 per day\n\n\n\nJudged Quilts    Door Prizes    Raffle Quilt   Boutique   Vendors   Quilt Book Sale
X-ALT-DESC;FMTTYPE=text/html:<h1 style="text-align:center"><span style="font-size:16px"><big><span style="background-color:rgb(255\, 255\, 0)">QuiltFest 2017</span></big></span></h1>\n\n<div style="text-align:center"><span style="font-size:16px">Presented by Misty Mountain Quilters&#39\; Guild<br />\nwww.mistymountainquiltguild.org<br />\n<br />\nHouse of Prayer Church - Family Life Center<br />\n1400 Pat Colwell Rd<br />\nBlairsville\, GA<br />\n<br />\nShow Hours<br />\nFriday\, Sept 22nd&nbsp\;&nbsp\; 9:00am - 5:00pm<br />\nSaturday\, Sept 23rd &nbsp\; 9:00am - 4:00pm<br />\n<br />\nAdmission:<br />\n$6.00 per day<br />\n<br />\nJudged Quilts&nbsp\; &nbsp\; Door Prizes &nbsp\;&nbsp\; Raffle Quilt &nbsp\; Boutique &nbsp\; Vendors &nbsp\; Quilt Book Sale</span></div>\n
LOCATION:House of Prayer Church - Family Life Center 1400 Pat Colwell Rd Blairsville\, GA
UID:e.256.19603
SEQUENCE:3
DTSTAMP:20260419T193120Z
URL:https://members.visitblairsvillega.com/events/details/quilt-fest-2013-presented-by-misty-mountain-quilters-guild-10-25-2013-19603
END:VEVENT

END:VCALENDAR
