BEGIN:VCALENDAR
VERSION:2.0
PRODID:-//ChamberMaster//Event Calendar 2.0//EN
METHOD:PUBLISH
X-PUBLISHED-TTL:P3D
REFRESH-INTERVAL:P3D
CALSCALE:GREGORIAN
BEGIN:VEVENT
DTSTART:20151023T130000Z
DTEND:20151023T210000Z
X-MICROSOFT-CDO-ALLDAYEVENT:FALSE
SUMMARY:Quilt Fest 2015
DESCRIPTION:A Quilt Show proudly presented by Misty Mountain Quilter's Guild featuring Classes and Demonstrations\, Quilting Vendors\, Guild Boutique\, Door Prizes and Quilt Book and Magazine Sale.
X-ALT-DESC;FMTTYPE=text/html:A Quilt Show proudly presented by Misty Mountain Quilter's Guild featuring Classes and Demonstrations\, Quilting Vendors\, Guild Boutique\, Door Prizes and Quilt Book and Magazine Sale.
LOCATION:Union County High School Gym 153 Panther Circle - off Industrial Blvd. Blairsville\, Ga. 30512
UID:e.256.44176
SEQUENCE:3
DTSTAMP:20260423T102629Z
URL:https://members.visitblairsvillega.com/events/details/quilt-fest-2015-10-23-2015-44176
END:VEVENT

END:VCALENDAR
